BEGIN:VCALENDAR
VERSION:2.0
PRODID:-//ASCH - ECPv6.15.20//NONSGML v1.0//EN
CALSCALE:GREGORIAN
METHOD:PUBLISH
X-ORIGINAL-URL:https://asch.net
X-WR-CALDESC:Events for ASCH
REFRESH-INTERVAL;VALUE=DURATION:PT1H
X-Robots-Tag:noindex
X-PUBLISHED-TTL:PT1H
BEGIN:VTIMEZONE
TZID:America/New_York
BEGIN:DAYLIGHT
TZOFFSETFROM:-0500
TZOFFSETTO:-0400
TZNAME:EDT
DTSTART:20230312T070000
END:DAYLIGHT
BEGIN:STANDARD
TZOFFSETFROM:-0400
TZOFFSETTO:-0500
TZNAME:EST
DTSTART:20231105T060000
END:STANDARD
BEGIN:DAYLIGHT
TZOFFSETFROM:-0500
TZOFFSETTO:-0400
TZNAME:EDT
DTSTART:20240310T070000
END:DAYLIGHT
BEGIN:STANDARD
TZOFFSETFROM:-0400
TZOFFSETTO:-0500
TZNAME:EST
DTSTART:20241103T060000
END:STANDARD
BEGIN:DAYLIGHT
TZOFFSETFROM:-0500
TZOFFSETTO:-0400
TZNAME:EDT
DTSTART:20250309T070000
END:DAYLIGHT
BEGIN:STANDARD
TZOFFSETFROM:-0400
TZOFFSETTO:-0500
TZNAME:EST
DTSTART:20251102T060000
END:STANDARD
END:VTIMEZONE
BEGIN:VTIMEZONE
TZID:UTC
BEGIN:STANDARD
TZOFFSETFROM:+0000
TZOFFSETTO:+0000
TZNAME:UTC
DTSTART:20230101T000000
END:STANDARD
END:VTIMEZONE
BEGIN:VEVENT
DTSTART;TZID=America/New_York:20240724T200000
DTEND;TZID=America/New_York:20240724T213000
DTSTAMP:20260423T181458
CREATED:20240421T162550Z
LAST-MODIFIED:20240507T160324Z
UID:1298-1721851200-1721856600@asch.net
SUMMARY:Webinar: Modification of ‎Egosyntonic Negative ‎Beliefs: Implicit ‎Memory\, Attachment\, ‎Cognitive Bridge\, and ‎Memory ‎Reconsolidation
DESCRIPTION:Webinar: Modification of Egosyntonic Negative Beliefs: Implicit Memory\, Attachment\, Cognitive Bridge\, and Memory Reconsolidation \nA Webinar with Louis F. Damis\, PhD\, ABPP\, FASCH \nJuly 24\, 2024 \n1.50 CEU \nCLICK HERE TO REGISTER\n\n\n\nASCH Member\n$45\n\n\nNon-Member\n$65\n\n\nResident/Intern/Fellow\n$45\n\n\nGraduate Student\n$15
URL:https://asch.net/event/modification-of-egosyntonic-negative-beliefs-implicit-memory-attachment-cognitive-bridge-and-memory-reconsolidation/
LOCATION:Online Virtual Webinar
CATEGORIES:ASCH-Sponsored CE
END:VEVENT
BEGIN:VEVENT
DTSTART;TZID=UTC:20240719T090000
DTEND;TZID=UTC:20240720T120000
DTSTAMP:20260423T181458
CREATED:20240421T162407Z
LAST-MODIFIED:20240613T215754Z
UID:1296-1721379600-1721476800@asch.net
SUMMARY:ASCH Teaching & Consultation Workshop (TCW)
DESCRIPTION:ASCH educational and training programming includes a wide variety of offerings for health care professionals interested in becoming familiar and proficient with the range of clinical hypnosis knowledge and skills. ASCH educational and training offerings range from Level 1 Workshops for those health care professionals wishing to become familiar\, comfortable\, and competent with a foundational understanding of concepts and applied clinical skills\, through the advanced knowledge\, skills\, and applications of Level 2 workshops\, to highly specialized training in specific applied areas included in Advanced workshops.  This series of training experiences provide foundational support for other ASCH educational and training programs including a twenty hours Individualized Consultation (IC) in individual or workshop format\, and a ten-hour TCW Workshop. \n(Please see the Certification section on the ASCH website for other program descriptions and requirements for the attainment of various levels of certification.) \nTeaching and Consultation Workshop (TCW) Overview\nTCW is a ten-hour workshop designed for those individuals who have attained ASCH Certification (including completion of Level 1 and Level 2 ASCH-sponsored or ASCH-approved workshops and completion of twenty hours of Individualized Consultation (IC) (individual or workshop format).  Completion of TCW is required\, along with other education and training programs and certification noted above\, and continued use of clinical hypnosis in professional practice\, in order to apply for and attain ASCH Approved Consultant status. Faculty members for TCW workshops are highly accomplished exceedingly well-trained and experienced clinicians\, and respected educators and trainers. \nThe TCW includes an introduction that addresses professional continuing education standards\, workshop learning objectives\, and encouragement of active participant engagement throughout the workshop.  Major topic areas of training include facilitation of learning environments\, principles\, and characteristics of adult learning (andragogy)\, development of experience-level didactic presentations\, including quantifiable learning objectives\, organization of clinical hypnosis training workshops and small group practice sessions\, careful selection of faculty\, and management of unusual training and consultation situations.  Additionally\, a review of ASCH Standards of Training\, especially Levels 1 and Level 2 workshop training\, including optimization of workshop participant and/or patient safety with respect to appropriate re-alerting and re-orienting\, is emphasized. Finally\, there is a review of learning contract responsibilities\, case consultation\, providing useful and meaningful feedback to those with whom one is consulting\, the use and documentation of adjunct consultants\, and ethical considerations. \nSchedule\n\n\n\nFriday\, July 19\, 2024\nTimes to Be Announced\n\n\nSaturday\, July 20\, 2024\nTimes to Be Announced\n\n\n\nRegister NOW!\nNote that to register\, you must have an account in our system.  If you do not have a current account\, click here for instructions.\n\nCurriculum\nSECTION ONE: Workshop Overview of Foundational Elements \n\nIntroduction of Workshop Participants and Faculty\nIntroduction to Purpose and Process of Workshop\nEstablishing Familiarity and Concurrence with the ASCH Standards of Training (SoT)\nUnderstanding Adult Education (Andragogy) Theories and Styles\nUnderstanding Your Personal Style of Learning and Educating/Training\n\nUpon completion of this workshop participants will be able to: \n\nDescribe the purposes of the sequence of the ASCH Standards of Training\nDescribe the concept of spiral learning\nDescribe Knowles’ principles of adult learning and education\nDescribe the participants’ personal styles of learning and education and how they impact education/training of clinical hypnosis\n\nSECTION TWO: Development and Presentation of Clinical Hypnosis Workshops; Small Group Workshop Components; and the Importance of Participant Safety \n\nPlanning an ASCH-ERF Sponsored / ASCH-Approved Workshop in Clinical Hypnosis (Spiral Education; Appropriate Sequencing; Purpose of repetition throughout the educational workshop; Development of appropriate learning objectives)\nGroup Developmental Stages; Group Time Management; Documentation of Group Process and Group Member Progress\nThe Importance of Small Group Experiences in Clinical Hypnosis Workshops\n\nUpon completion of this workshop participants will be able to: \n\nExplain the importance of repetition in adult education\nDescribe the importance of appropriate learning objectives and distinguish between helpful and appropriate and non-contributory learning objectives\nDescribe the importance of small group practice experiences in clinical hypnosis training and the documentation of such\nDescribe the importance of limiting the size of small group practice sessions and of the specified\, rotating roles of small group participants\n\nSECTION THREE: Workshop Faculty Recruitment\, Selection\, and Assignment(s); Optimizing Workshop Participant Safety \n\nUnderstanding the Importance of Workshop Participant Safety and Threats\nIdentification\, Selection\, and Progressive Inclusion of Workshop Faculty; Characteristics of Effective Faculty / Teachers; Characteristics of effective leaders; Leaders’ missteps to avoid\n\nUpon completion of this workshop participants will be able to: \n\nDescribe two elements of workshop participant safety and why each is important\nDescribe one standardized clinical hypnosis re-alerting/re-orienting assessment instrument\nDescribe at least three important factors in the selection of appropriate faculty for clinical hypnosis workshops\nList at least five important characteristics of effective leaders/ workshop faculty members\n\nSECTION FOUR: Consultation and the ASCH Certification Process \n\nConsultation; Understanding the ASCH Individualized Consultation Options\nImportance and Appropriate Inclusion of Evaluation and Feedback\nBecoming an ASCH Approved Consultant\n\nUpon completion of this workshop participants will be able to: \n\nDefine consultation and how the consultation process differs from clinical supervision\nDescribe at two elements of effective feedback\nDescribe the required elements of the process of becoming an ASCH Approved Consultant\n\nWorkshop Review / Evaluations / Q&A / Wrap-Up \nGeneral Information: \n\nChanging Dates. ASCH will honor one registration transfer.  Transfer requests must be made in writing\, to education@asch.net\, by July 8.  Changes requested after that date will be treated as a cancellation.\nCredit Card Payments. Registration payments must be made online and received by July 8.  The ASCH Registrar will send reminders of the due date will in advance.  The Registrants seat will be relinquished if payment is not received by this date.\nCancellations. Cancellations must be made in writing to education@asch.net. No cancellations will be taken by phone. Cancellations made by July 8 will receive a full refund minus a $50 administrative fee. No refunds will be made for cancellations made after that date unless the seat can be filled by a waitlisted person.\n\nWorkshop Fee: \nMember: $470\nNon-Member: $675
URL:https://asch.net/event/asch-teaching-consultation-workshop-tcw/
LOCATION:Virtual
CATEGORIES:ASCH-Sponsored CE
END:VEVENT
BEGIN:VEVENT
DTSTART;TZID=America/New_York:20240710T200000
DTEND;TZID=America/New_York:20240710T213000
DTSTAMP:20260423T181458
CREATED:20240421T162208Z
LAST-MODIFIED:20240618T224854Z
UID:1295-1720641600-1720647000@asch.net
SUMMARY:Webinar: Nursing and Hypnosis
DESCRIPTION:Webinar: Nursing and Hypnosis\n  \nA Webinar with Linda Thomson\, PhD\, MSN\, APRN\, ABMH\, ABHN\, FSCH \nJuly 10\, 2024 \n1.50 CE \nCLICK HERE TO REGISTER\n\n\n\nASCH Member\n$45\n\n\nNon-Member\n$65\n\n\nResident/Intern/Fellow\n$45\n\n\nGraduate Student\n$15
URL:https://asch.net/event/nursing-and-hypnosis/
LOCATION:Online Virtual Webinar
CATEGORIES:ASCH-Sponsored CE
END:VEVENT
BEGIN:VEVENT
DTSTART;TZID=UTC:20240613T000000
DTEND;TZID=UTC:20240616T235900
DTSTAMP:20260423T181458
CREATED:20240421T161700Z
LAST-MODIFIED:20240523T174232Z
UID:1289-1718236800-1718582340@asch.net
SUMMARY:ASCH Level 1 & Level 2 Workshop
DESCRIPTION:Level 1 Registration is SOLD OUT\nRegister for Level 2\n\n\n\nQuick Links: Register LVL 2  | Details & Fees | Eligibility | Credits\n\n\n\nImportant Note: ASCH instituted a new database in early May – if you have not created an ASCH account in our new database\, you will need to create an account before registration.  For more information on creating an account: Click Here. \n  \nWORKSHOP SCHEDULE (L1\, L2) \n\n\n\nThursday\, June 13\, 2024\n6:00pm – 9:00pm EST\n\n\nFriday\, June 14\, 2024\n8:30am – 6:00pm EST\n\n\nSaturday\, June 15\, 2024\n8:30am – 6:00pm EST\n\n\nSunday\, June 16\, 2024\n8:30am – 12:00pm EST\n\n\n\nProgram Notes:  \n\nParticipants are expected to attend all days.\nDetailed workshop schedules\, faculty and other materials will be available to participants\, online\, two weeks before the start date.  Workshop materials will be available in electronic form only.\nYou must complete Level 1 prior to taking Level 2.\n\n  \nLEVEL 1 Registrations are SOLD OUT\n*Click Here for Level 2 Workshop Registration*\n  \nBACK TO THE TOP \nClinical Workshop Level 1\nWhy pursue training in Clinical Hypnosis? What are the benefits?\nThe Level 1 workshop\, the first part of a series of workshops in the certification program for clinical hypnosis\, is intended for licensed health professionals including physicians\, nurses\, psychologists\, dentists\, counselors\, social workers\, and those in related fields. A diverse faculty from a range of health disciplines will teach the principles and process of hypnotic inductions\, suggestions\, and treatment. The workshop is a mix of didactic presentations\, demonstrations\, experiential exercises\, and faculty-led small group practice tailored to the specific needs and learning styles of each participant. At the conclusion of the workshop participants will have been taught the basic skills required to utilize clinical hypnosis and begin to apply it to their practice. \nAdvantages: \n\nRapidly establish rapport and the hypnotic relationship across developmental ages.\nFacilitate change\, ego-strengthen\, and reduce impediments to change.\nCost-effective\, collaborative\, person-centered treatment.\nEmpower clients and patients to build skills for better health.\nLearn a highly creative\, broad-ranging technique for use in integrative medicine.\n\n Level 1 Sample Workshop Curriculum \nBACK TO THE TOP \n\nClinical Workshop Level 2\nWhat are the advantages of more training in Clinical Hypnosis?  \nThe second step in certification training is to strengthen skills\, strategies\, and applications of clinical hypnosis. Part one taught “how to” do clinical hypnosis\, and part two builds on this skill set and refines and furthers development to add the when\, why\, and where to the “how-to”. \nAdvantages: \n\nIntroduction to a wider range of topics on the utility of clinical hypnosis (e.g.\, Pain Management; Anxiety and Sleep Disorders; Habit Disorders).\nLearn more techniques for the creative use of the language of suggestion to facilitate change.\nLearn specific tools (complex inductions and intensification techniques) for specific populations (children).\nMore practice with the feedback of expert faculty.\n\nThe Level 2 workshop increases skills and builds confidence in the use of hypnosis. It prepares the workshop participant to move on to the Advanced Workshop level and Individual Consultation with a strong basis of skills and understanding of the principles and practice of clinical hypnosis. \n  Level 2 Sample Workshop Curriculum \nBACK TO THE TOP \n\nAdvanced Level Workshops\nAdvanced Level Workshops are offered throughout the year.  Recent professional training workshops have focused on behavioral medicine\, health psychology\, hypnosis and pediatrics\, and mind-body medicine. \nAdvanced level workshop participants are encouraged to complete Level 1 and Level 2 training. Skills mastered in these workshops ensure comprehension and applicability of the material. \nBACK TO THE TOP \n\nRegistration Details & Fees\n\n\n\n\nMember\nNon-Member\nResident/Intern/Fellow\nGraduate Student\n\n\nLevel 1 and Level 2 (each priced separately)\n$500.00\n$675.00\n$400.00\n$320.00\n\n\n\nWorkshop Capacities: \nCapacity is set at 25 for each workshop ensure participants are given the opportunity for active participation and provided the required attention and oversight by faculty especially in small group activities. \n—————————————————————————- \nRegistration Instructions: \nOn-line registration will take you to the ASCH site and require a new account set-up (non-members) or Member login.  If you are an ASCH member please be sure you have created your new account within our new database prior to registering. \nPayments can now be made in a secure online environment.  The system DOES NOT save credit card information once the transaction has been completed and registration submitted. \nGeneral Information: \nWorkshop Material.  Approximately one week before the workshop\, registered participants will receive a link to a private webpage that will include links to handouts and resource materials.  This access will be good for seven days after the workshop has been completed.  Note: workshop handouts can be approximately 200+ pages for Level 1; 150+ pages for Level 2; and 100+ pages for Advanced. Participants are responsible for downloading and printing workshop materials. \nContinuing Education Hours.  On-time attendance\, full engagement\, and completion of the daily program evaluations are required for a Certificate of Completion. The workshop is approved for 20.0 –  21.5 hrs. \nChanging Dates.  ASCH will honor one registration transfer.  Transfer requests must be made in writing\, to education@asch.net\, by May 30.  Change requests after that date will be treated as a cancellation. \nCredit Card Payments. Registration payments must be made online and received by May 30.  The ASCH Registrar will send reminders of the due date will in advance.  The Registrants seat will be relinquished if payment is not received by this date. \nCancellations. Cancellations must be made in writing to education@asch.net. No cancellations will be taken by phone. Cancellations made by May 30 will receive a full refund minus a $50 administrative fee. No refunds will be made for cancellations made after that date unless the seat can be filled by a waitlisted person. \n  \nBACK TO THE TOP \n\nClinical Workshop Eligibility\nRegistrants must hold a master’s degree or higher in a health care discipline deemed appropriate by the Society from a college or university accredited by its appropriate regional accrediting body. In addition\, registrants must be licensed or certified in the state in which they practice. \nRegistered Nurses with a bachelor’s degree from a college or university accredited by its appropriate regional accrediting body who are licensed or certified in the state in which they practice are eligible to attend the Level 1 Workshop on Clinical Hypnosis. \nStudents enrolled full-time in master’s level or higher programs are eligible to attend at a reduced rate. Students must have completed a minimum of one full semester of the program and must submit proof of full-time enrollment at an ACE-approved institution of higher education on school letterhead that clearly identifies the individual’s program of study\, area of concentration (if applicable)\, level of degree pursued and date of intended graduation. \nFull-time residents or interns participating in a recognized residency or internship program may also register to attend at a reduced rate. Residents/interns need to submit correspondence from their supervisor on official letterhead explaining the nature of the residency/internship and the date of intended completion of the program. \nBACK TO THE TOP \n\nWorkshop CME & ASCH Continuing Education (CE) Credits\nThe American Society of Clinical Hypnosis-Education and Research Foundation (ASCH-ERF) is accredited by the Accreditation Council for Continuing Medical Education to provide continuing medical education for physicians. The American Society of Clinical Hypnosis-Education and Research Foundation (ASCH-ERF) designates this live activity for a maximum of 21.5 AMA PRA Category 1 Credit(s)™. Physicians should claim only the credit commensurate with the extent of their participation in the activity. \nASCH-ERF is approved by the American Psychological Association to offer continuing education for psychologists. ASCH-ERF maintains responsibility for the regional workshops. The ASCH Standards of Training Committee has approved all regional workshops as meeting the twenty hours required for membership and certification requirements. \nCourses approved by the American Society of Clinical Hypnosis are approved continuing education courses per Florida’s AC-Rule 64B-4-6002 for Social Workers\, Counselors\, and Marriage and Family Therapists in the State of Florida. \n  \n\n\n\n\nThe American Society of Clinical Hypnosis Education & Research Foundation. Nationally Approved PACE Program Provider for FAGD/MAGD credit. Approval does not imply acceptance by any regulatory authority or AGD endorsement. 6/1/2022 to 5/31/2025. Provider ID#217022\n\n\n\n  \nCalifornia Board of Behavioral Sciences Accreditation\nPlease note that effective July 1\, 2015\, the California Board of Behavioral Sciences (CBBS) is no longer renewing existing CE provider numbers.  ASCH-ERF’s accreditation through CBBS expired on December 31\, 2015.  BBS licensees now obtain their continuing education through the National Association of Social Workers and the American Psychological Association\, among others\, both through which ASCH-ERF maintains accreditation. \nBACK TO THE TOP
URL:https://asch.net/event/asch-level-1-level-2-workshop/
LOCATION:Virtual
CATEGORIES:ASCH-Sponsored CE
END:VEVENT
BEGIN:VEVENT
DTSTART;TZID=UTC:20240509T000000
DTEND;TZID=UTC:20240511T235900
DTSTAMP:20260423T181458
CREATED:20240421T160425Z
LAST-MODIFIED:20240507T160501Z
UID:1271-1715212800-1715471940@asch.net
SUMMARY:ASCH Advanced Level Workshop: Clinical Hypnosis for GI\, Fibromyalgia\, & Autoimmune Disorders
DESCRIPTION:REGISTRATION FOR THIS EVENT IS NOW CLOSED \nOur next Advanced Workshop is scheduled for November – registration to open in July. \n\n\n\nQuick Links: Details & Fees | Eligibility | Credits\n\n\n\nWORKSHOP SCHEDULE (Advanced Level) \n\n\n\nThursday\, May 9th\, 2024\n6:00 PM – 9:00 PM EST\n\n\nFriday\, May 10th\, 2024\n8:15 AM – 6:00 PM EST\n\n\nSaturday\, May 11th\, 2024\n8:15 AM – 6:00 PM EST\n\n\n\nProgram Notes:  \nThis workshop will address evidenced-based hypnotic strategies for the treatment of DGBI\, Fibromyalgia\, and Autoimmune Disorders. As each of these conditions is often associated with a history of stress/trauma and decreased HRV\, participants will learn techniques to optimize ANS activity for mental and physical health promotion. In addition\, strategies for trauma stabilization\, pain modulation\, and sleep enhancement will be provided. \n\nParticipants are expected to attend all days.\nDetailed workshop schedules\, faculty and other materials will be available to participants\, online\, two weeks before the start date.  Workshop materials will be available in electronic form only.\n\nREGISTRATION FOR THIS EVENT IS NOW CLOSED \nOur next Advanced Workshop is scheduled for November – registration to open in July. \nBACK TO THE TOP \n\nAdvanced Level Workshops\nAdvanced Level Workshops are offered throughout the year.  Recent professional training workshops have focused on behavioral medicine\, health psychology\, hypnosis and pediatrics\, and mind-body medicine. \nAdvanced level workshop participants are encouraged to complete Level 1 and Level 2 training. Skills mastered in these workshops ensure comprehension and applicability of the material. \nBACK TO THE TOP \n\nRegistration Details & Fees\n\n\n\n\nMember\nNon-Member\nResident/Intern/Fellow\nGraduate Student\n\n\nAdvanced Workshop\n$500.00\n$675.00\nNA\nNA\n\n\n\n—————————————————————————- \nGeneral Information: \nSpeakers: Louis Damis\, PhD and Rebecca Cherry\, MD \nWorkshop Material:  Approximately one week before the workshop\, registered participants will receive a link to a private webpage that will include links to handouts and resource materials.  This access will be good for seven days after the workshop has been completed.  Note: workshop handouts can be approximately 200+ pages for Level 1; 150+ pages for Level 2; and 100+ pages for Advanced. Participants are responsible for downloading and printing workshop materials. \nContinuing Education Hours:  On-time attendance\, full engagement\, and completion of the daily program evaluations are required for a Certificate of Completion. The workshop is approved for 17.75 hrs. \nChanging Dates:  ASCH will honor one registration transfer.  Transfer requests must be made in writing\, to education@asch.net\, by April 25th.  Change requests after that date will be treated as a cancellation. \nCredit Card Payments: Registration payments must be made online and received by April 25th.  The ASCH Registrar will send reminders of the due date will in advance.  The Registrants seat will be relinquished if payment is not received by this date. \nCancellations: Cancellations must be made in writing to education@asch.net. No cancellations will be taken by phone. Cancellations made by April 25th will receive a full refund minus a $50 administrative fee. No refunds will be made for cancellations made after that date unless the seat can be filled by a waitlisted person. \n  \nBACK TO THE TOP \n\nClinical Workshop Eligibility\nRegistrants must hold a master’s degree or higher in a health care discipline deemed appropriate by the Society from a college or university accredited by its appropriate regional accrediting body. In addition\, registrants must be licensed or certified in the state in which they practice. \nBACK TO THE TOP \n\nWorkshop CME & ASCH Continuing Education (CE) Credits\nThe American Society of Clinical Hypnosis-Education and Research Foundation (ASCH-ERF) is accredited by the Accreditation Council for Continuing Medical Education to provide continuing medical education for physicians. The American Society of Clinical Hypnosis-Education and Research Foundation (ASCH-ERF) designates this live activity for a maximum of 17.75 AMA PRA Category 1 Credit(s)™. Physicians should claim only the credit commensurate with the extent of their participation in the activity. \nASCH-ERF is approved by the American Psychological Association to offer continuing education for psychologists. ASCH-ERF maintains responsibility for the regional workshops. The ASCH Standards of Training Committee has approved all regional workshops as meeting the twenty hours required for membership and certification requirements. \nCourses approved by the American Society of Clinical Hypnosis are approved continuing education courses per Florida’s AC-Rule 64B-4-6002 for Social Workers\, Counselors\, and Marriage and Family Therapists in the State of Florida. \n  \n\n\n\n\nThe American Society of Clinical Hypnosis Education & Research Foundation. Nationally Approved PACE Program Provider for FAGD/MAGD credit. Approval does not imply acceptance by any regulatory authority or AGD endorsement. 6/1/2022 to 5/31/2025. Provider ID#217022\n\n\n\n  \nCalifornia Board of Behavioral Sciences Accreditation\nPlease note that effective July 1\, 2015\, the California Board of Behavioral Sciences (CBBS) is no longer renewing existing CE provider numbers.  ASCH-ERF’s accreditation through CBBS expired on December 31\, 2015.  BBS licensees now obtain their continuing education through the National Association of Social Workers and the American Psychological Association\, among others\, both through which ASCH-ERF maintains accreditation. \nBACK TO THE TOP
URL:https://asch.net/event/asch-advanced-level-workshop/
LOCATION:Virtual
CATEGORIES:ASCH-Sponsored CE
END:VEVENT
END:VCALENDAR