BEGIN:VCALENDAR
VERSION:2.0
PRODID:-//ASCH - ECPv6.15.20//NONSGML v1.0//EN
CALSCALE:GREGORIAN
METHOD:PUBLISH
X-WR-CALNAME:ASCH
X-ORIGINAL-URL:https://asch.net
X-WR-CALDESC:Events for ASCH
REFRESH-INTERVAL;VALUE=DURATION:PT1H
X-Robots-Tag:noindex
X-PUBLISHED-TTL:PT1H
BEGIN:VTIMEZONE
TZID:UTC
BEGIN:STANDARD
TZOFFSETFROM:+0000
TZOFFSETTO:+0000
TZNAME:UTC
DTSTART:20250101T000000
END:STANDARD
END:VTIMEZONE
BEGIN:VEVENT
DTSTART;TZID=UTC:20260528T190000
DTEND;TZID=UTC:20260528T210000
DTSTAMP:20260420T093941
CREATED:20260408T143624Z
LAST-MODIFIED:20260408T144056Z
UID:3347-1779994800-1780002000@asch.net
SUMMARY:ASCH Webinar: Spiritual Dimensions in Hypnosis
DESCRIPTION:Spiritual Dimensions in Hypnosis \n\nLive Webinar with Bette Freedson\, LCSW\, LICSW\, CGP \nRegistration will open soon! Link to be posted here. \nDate: May 28\, 2026\nTime: 7:00–9:00 PM (ET)\nCE Hours: 2\nLevel: All Levels \nRegistration Fees: \n\nMember: $45\nNon-Member: $65\nGraduate Student: $35\nResident: $35\n\n\nAbstract \n\nEvery client comes to therapy with a set of personal beliefs\, experiences\, and biases\, including those about the concept and nature of spirituality. This webinar will include case examples\, experiential exercises\, and discussions designed to explore how hypnosis methodologies can be utilized to elicit transformative spiritual experience aligned with the unconscious\, intuitive wisdom within. \nAn innovative\, process-oriented\, non-linear approach\, the USE-IT model highlights the core Ericksonian competencies of tailoring and utilization\, along with other hypnosis methodologies for eliciting realizations that transcend the individual’s ordinary conscious thinking. \nWhen perceived as spiritual\, the intuitive power within can become motivational and transcendent\, providing access to transformative resources that can be integrated into the client’s psychic schema. \n\nFive Phenomenological Features of USE-IT\nUtilize:\nUnderstanding the client’s views about spirituality\, while applying the concept of Client/Self/Circumstances\, and utilizing the methodology of hypnosis creates limitless potential for eliciting recognition of transcendent/transformative resources. \nSynchronize:\nTailoring the trance and the therapy to the client’s ecology involves strategic use of both the client’s and the clinicians’ intuitively elicited allegorical themes (metaphor\, simile\, stories\, imagery) with intuitively meaningful references related to the client’s desired goals. \nElicit:\nNew revelations of unrecognized resources elicited from the unconscious/intuitive/spiritual dimension via hypnosis provide motivation\, strength\, and tools for problem-solving\, reframing cognitive distortions\, and healing\, within the phenomenology of various conditions\, including trauma sequelae and the process of grieving. (The case of Jean’s mother) \nIntegrate:\nIntuitive resources and realizations ratified as spiritual by the client become perceptions and reference experiences of inner wisdom that can become absorbed into the client’s psychic schema and anchored as implicit shifts in the limbic system. \nTransform:\nTransformed shifts in thinking\, feeling\, and coping create a renewed belief in self-efficacy and capacity. The realization of intuitive power within can become a spiritual guidance system that informs the client’s ongoing lived experience. \n\nLearning Objectives\n\nName the phenomenological features of the USE-It Model.\nDescribe one operational detail of each feature of the USE-IT Model.\nExplain the way the core competencies of Tailoring and Utilization are conceptually and operationally relevant to evoking a client’s felt-sense of a Spiritual experience in Hypnosis.\nGiven an individual client\, create & demonstrate an intervention or an exercise that incorporates hypnosis methodology and the client’s beliefs about spirituality to evoke an experiential moment.\n\n\nReferences\nAccaria\, Philip\, Dr.\, Ph.D.\, FASCH\, An Introduction to Energy Medicine: Ancient Wisdom for Modern Day Solutions \nBerne\, Eric\, Intuition and Ego States\, Harper & Row\, Publishers\, 1977. \nFreedson\, Bette\, Other Realms\, Other Ways: A Clinician’s Guide to the Magick of Intuition\, iantella books\, 2021. \nFreedson\, Bette\, PassageWays: Everyday Adventures into the Paranormal\, iantella books\, 2021. \nCameron Alldredge Profile: Baylor University directory page psychologyneuroscience.artsandsciences.baylor.edu \nMarks-Tarlow\, Terry\, Clinical Intuition in Psychotherapy: The Neurobiology of Embodied Response\, Norton\, 2012. \nSimonton\, O. Carl\, M.D.\, Getting Well Again\, Bantam Books\, 1992. \nMiller\, Scott\, and Hubble\, Mark\, “How Psychotherapy Lost Its Magick\,” Psychotherapy Networker\, 2017.\nhttps://www.psychotherapynetworker.org/magazine/article/1077/how-psychotherapy-lost-its-magick \nVozza\, Stephanie\, “How to tap into your intuition to predict the future more effectively\,” Fast Company\, 2-13-2024.\nhttps://www.fastcompany.com/91023740/how-to-tap-into-your-intuition-to-predict-the-future-more-effectively \nZeig\, Jeffrey K.\, PhD\, The Induction of Hypnosis: An Ericksonian Elicitation Approach\, The Milton Erickson Foundation Press\, 2014. \n\nPresenter\nBette Freedson\, LCSW\, LICSW\, CGP\n📧 bjfreedson@gmail.com \nNorth Carolina Society of Clinical Hypnosis Board member\, Bette Freedson\, LCSW\, LICSW\, CGP is an ASCH Approved ‎Consultant\, and an author and speaker. Bette’s most recent book is Passageways: Everyday Adventures into the ‎Paranormal. She is also the author of Other Realms\, Other Ways: A Clinician’s Guide to the Magick of Intuition\, and Soul ‎Mothers’ Wisdom: Seven Insights for the Single Mother. Bette is also a contributing author to ERICKSONIAN THERAPY ‎NOW: The Master Class with Jeffrey K. Zeig\, PhD. \nProfessionally trained in hypnosis\, Bette incorporates Ericksonian hypnosis along with the power of intuition into her ‎clinical social work practice\, her teaching\, and her writing. \nAn approved consultant of the American Academy of Clinical Hypnosis (ASCH)\, with roots in public education both as a ‎teacher and as a social worker\, Bette incorporates the wisdom of the non-conscious mind into her writing\, teaching\, and ‎clinical practice\, always mindful of tailoring her presentation to the specific learning needs of her audience. \nA frequent faculty member for programs of the Milton H. Erickson Foundation\, Bette has also conducted workshops for ‎The Sweetser Training Institute\, ASCH and its components\, the National Association of Social Workers\, and its ‎components\, and the Northeast Society of Group Psychotherapy. \nBette has co-presented a weekend program at Kripalu entitled “A Woman’s Sacred Journey”\, and served for two years as a ‎member of the NASW specialty practice section on Children\, Adolescents and Young Adults (CAYA). \nIn 2026\, Bette is on the faculty of the 2026 Intensive Training Program of the Milton H. Erickson Foundation. She is teaching “Spiritual Dimensions in Hypnosis” as part of Module 4 – “Mastering Clinical Challenges.” \nBette Freedson’s private seminars on developing intuition\, entitled The Psychic Studio\, assist members in exploring the ‎nature of intuition and utilizing this innately gifted ability in life. \nBette Freedson\, LICSW\, LCSW\, CGP lives and practices in Southern Maine. \nRegistration Instructions  \nWe are currently moving portal systems for a better user experience. You will be able to register with your current ASCH account information soon. The link and directions will be posted here.  \nOnline registration will take you to the ASCH site and require a new account set-up (non-members) or Member login.  If you are an ASCH member enter the email address associated with your ASCH Membership as our UserID; click Forgot Password to set a new password.  \nPayments can now be made in a secure online environment.  The system DOES NOT save credit card information once the transaction has been completed and registration submitted.  \nContinuing Education Hours  \nOnline attendance\, full engagement and completion of a pre-test\, post-test and daily program evaluations are required for a certificate of completion.  \nCancellations  \nCancellations must be made in writing to info@asch.net. No cancellations will be taken by phone.  \nWorkshop CME & ASCH Continuing Education (CE) Credits  \nThis program has been approved by the American Society of Clinical Hypnosis Standards of Training Committee to be used toward Membership and Certification requirements. \nThe American Society of Clinical Hypnosis-Education and Research Foundation (ASCH-ERF) is accredited by the Accreditation Council for Continuing Medical Education to provide continuing medical education for physicians. The American Society of Clinical Hypnosis-Education and Research Foundation (ASCH-ERF) designates this live activity for a maximum of 2 AMA PRA Category 1 Credit(s)™. Physicians should claim only the credit commensurate with the extent of their participation in the activity. \nThis program is Approved by the National Association of Social Workers (886386995-7390) for 2 continuing education contact hours. \nThis course is approved by the American Society of Clinical Hypnosis and as such is an approved continuing education course per Florida’s AC-Rule 64B-4-6002 American Society of Clinical Hypnosis-ERF is designated as an Approved PACE Program Provider. \nThe American Society of Clinical Hypnosis Education & Research Foundation Nationally Approved PACE Program Provider for FAGD/MAGD credit.  Approval does not imply acceptance by any regulatory authority or AGD endorsement. 10/1/2024 to 9/30/2027.  Provider ID#217022
URL:https://asch.net/event/3347/
CATEGORIES:ASCH-Sponsored CE
END:VEVENT
END:VCALENDAR