BEGIN:VCALENDAR
VERSION:2.0
PRODID:-//ASCH - ECPv6.15.20//NONSGML v1.0//EN
CALSCALE:GREGORIAN
METHOD:PUBLISH
X-WR-CALNAME:ASCH
X-ORIGINAL-URL:https://asch.net
X-WR-CALDESC:Events for ASCH
REFRESH-INTERVAL;VALUE=DURATION:PT1H
X-Robots-Tag:noindex
X-PUBLISHED-TTL:PT1H
BEGIN:VTIMEZONE
TZID:UTC
BEGIN:STANDARD
TZOFFSETFROM:+0000
TZOFFSETTO:+0000
TZNAME:UTC
DTSTART:20250101T000000
END:STANDARD
END:VTIMEZONE
BEGIN:VEVENT
DTSTART;VALUE=DATE:20260417
DTEND;VALUE=DATE:20260420
DTSTAMP:20260424T122132
CREATED:20260312T202044Z
LAST-MODIFIED:20260312T202044Z
UID:3254-1776384000-1776643199@asch.net
SUMMARY:Level 2 Clinical Hypnosis (OSCH)
DESCRIPTION:Organization: Oregon Society of Clinical Hypnosis  \nWebsite: https://www.oregonhypnosis.org/event-6581833   \nEvent Title: The 63rd Annual Level 2 Clinical Hypnosis Course  \nAgenda:   Agenda and LOs \nDates: 04/17/26 – 04/19/26  \nLocation: Virtual  \nCE: 21  \nContact : debbenweb@gmail.com \, Debbie Bensching  \nDescription: This course is designed for licensed health care professionals and students who have completed the Level 1 training in clinical hypnosis and wish to expand their competence in using clinical hypnosis. This course builds on foundational knowledge from Level 1 and emphasizes the development of practical skills\, clinical decision-making\, and ethical application of hypnosis.  \n  Participants will review current perspectives on the neurophysiology of hypnosis and refine core hypnotic competencies\, including advanced elicitation and intensification strategies\, therapeutic hypnotic language\, utilization\, and the use of suggestion. Instruction includes demonstrations and discussion of hypnotic techniques such as ideomotor signaling\, metaphor development\, and exploratory approaches.  \n Clinical applications of hypnosis are presented across several common treatment concerns\, including anxiety\, sleep problems\, depression\, pain management\, and habit disorders. The course also addresses ethical and professional issues relevant to hypnosis practice\, including considerations related to memory\, informed consent\, and scope of practice.  \nExperiential learning allows participants to engage in structured mentored small-group practice with faculty guidance to strengthen their ability to use hypnosis\, apply therapeutic techniques taught\, and integrate hypnosis into treatment. This training is intended to deepen clinical confidence and expand the ethical use of hypnosis.  \nLearning Objectives: *see agenda*  \nSpeaker info: Debbie Bensching\, LCSW\, LICSW\, MSWAC Bio \nDave Boyer LMFT Bio \nLinda Nishi-Strattner PHD Bio
URL:https://asch.net/event/level-2-clinical-hypnosis-osch/
LOCATION:Virtual
CATEGORIES:Component-Sponsored CE
END:VEVENT
BEGIN:VEVENT
DTSTART;VALUE=DATE:20260419
DTEND;VALUE=DATE:20260420
DTSTAMP:20260424T122132
CREATED:20260401T185958Z
LAST-MODIFIED:20260401T185958Z
UID:3322-1776556800-1776643199@asch.net
SUMMARY: Integration of Mindfulness and Clinical Hypnosis (CHSNJ)
DESCRIPTION:Organization: Clinical Hypnosis Society of New Jersey  \nWebsite: https://www.clinicalhypnosisnj.org/event-6605471  \nEvent Title: Integration of Mindfulness and Clinical Hypnosis  \nAgenda:  4.19.26_Timed_Agenda \nDate: 04/19/2026;  11-1pm ET \nLocation: Virtual  \nCE: 2  \nContact : Virginia Dinsmore\, ginnydinsmore@gmail.com  \nDescription: Mindful Hypnosis is an evidence-based modality for integrating mindfulness and hypnosis into clinical and personal practice. Attendees of this experiential workshop will learn the core principles of mindfulness\, the similarities and differences between meditation and hypnosis\, understand the existing research supporting the effects of Mindful Hypnotherapy\, and have an opportunity to experience a group Mindful Hypnosis meditation. Brief clinical vignettes and clinical anecdotes will be incorporated to ignite imagination and discussion. Practical strategies for integrating mindfulness-based inductions and suggestions into hypnosis and establishing a mindful self-hypnosis practice will be presented.  \nLearning Objectives:  \n1) Describe two foundational principles for integrating mindfulness into hypnotherapy.  \nOlendzki\, N.\, Elkins\, G. R.\, Slonena\, E.\, Hung\, J.\, & Rhodes\, J. R. (2020) \n  2) Identify three ways that mindfulness and hypnotherapy traditionally diverge\, and three ways they can converge.   \n Slonena\, E. E.\, & Elkins\, G. R. (2021)  \n  3) Define the eight sessions of Mindful Hypnotherapy as a manualized intervention\, as well as the underlying principles that enable adaptation.    \nPadilla\, V. J.\, Muñiz\, V.\, Scheffrahn\, K.\, & Elkins\, G. (2026)  \n  \nSpeaker info: Liz E. Slonena\, PsyD\, HSP-P\, MSCP\, CMIP – Bio; \n Nicholas (“Nik”) Olendzki \, Psy.D  – Bio \n 
URL:https://asch.net/event/integration-of-mindfulness-and-clinical-hypnosis-chsnj/
LOCATION:Virtual
CATEGORIES:Component-Sponsored CE
END:VEVENT
BEGIN:VEVENT
DTSTART;VALUE=DATE:20260419
DTEND;VALUE=DATE:20260420
DTSTAMP:20260424T122132
CREATED:20260411T171237Z
LAST-MODIFIED:20260411T171237Z
UID:3385-1776556800-1776643199@asch.net
SUMMARY:Utilizing Hypnosis in the Treatment of Narcissistic Wounds in Psychotherapy: A Relational Approach (GPSCH)
DESCRIPTION:Organization: Greater Philadelphia Society of Clinical Hypnosis  \nWebsite: https://gpsch.org/  \nEvent Title: Utilizing Hypnosis in the Treatment of Narcissistic Wounds in Psychotherapy: A Relational Approach  \nAgenda:  Eric_Spiegel_Timed_Agenda \nDates: April 19\, 2026  \nLocation: Webinar- Virtual  \nCE: 3  \nContact : Marcy Nadel\, marcy1116@aol.com  \nDescription: The dimension of narcissism influences a wide-range of character presentations and treatment issues occurring in psychotherapy in our modern age. Although clinical and public attention is often focused on the categorically-derived DSM-V diagnosis of Narcissistic Personality Disorder\, narcissistic wounds stemming from attachment failures are a more frequent occurrence in the development of the self. These arrests in the full formation of the self and their subsequent re-appearance in later relationship interactions are often referenced in a wide range of treatments.  \nIn this workshop\, we will consider how Kohut’s self psychology and current innovations in attachment theory can help us understand narcissistic wounds and treatment issues across the dimension of narcissism. Further\, we will focus on the role that hypnosis can play in a relationally attuned therapeutic relationship towards facilitating attachment repair in patients with developmental arrests associated with narcissistic wounds (e.g. false-self identity formation\, affect dysregulation\, boundary difficulties\, etc.). Through a mixture of didactic and experiential training\, participants will develop increased competency in (1) understanding how the therapeutic relationship in general\, and clinical hypnosis from an attachment frame in particular\, can be utilized to re-build developmental structure and re-engage reflective functioning in this population of patients\, and (2) utilizing specific applications of clinical hypnosis towards this aim.  \nAt the end of this learning experience\, participants will be able to: \n1. Identify the diagnostic features of narcissistic wounds. [Choi-Kahn\, L.W.\, Simonsen\, S.\, Euler\, S. (2022)\, and Wall\, T.W. (2018)]\n2. Explain how to implement a relational approach featuring hypnosis towards treating narcissistic wounds. [Choi-Kahn\, L.W.\, Simonsen\, S.\, Euler\, S. (2022); Spiegel\, E.B. (2016); and Weinberg\, I. (2023)] \n3. Utilize 3 hypnotic interventions to regulate affect during “triggers” of narcissistic wounds. [Baker\, E.L.\, & Spiegel\, E.B. (2020); Spiegel\, E.B. (2016); and Wall\, T.W. (2018)] \n4. Develop 3 hypnotic scenes that fit narcissistic identity presentation (e.g. false self) and facilitate developmental repair. [Baker\, E.L.\, & Spiegel\, E.B. (2020); Spiegel\, E.B. (2016); and Wall\, T.W. (2018)]  \nSpeaker info: Eric Spiegel\, Ph.D. _5_-_CV__Spiegel__short_ \n 
URL:https://asch.net/event/utilizing-hypnosis-in-the-treatment-of-narcissistic-wounds-in-psychotherapy-a-relational-approach-gpsch/
CATEGORIES:Component-Sponsored CE
END:VEVENT
END:VCALENDAR