BEGIN:VCALENDAR
VERSION:2.0
PRODID:-//ASCH - ECPv6.15.20//NONSGML v1.0//EN
CALSCALE:GREGORIAN
METHOD:PUBLISH
X-WR-CALNAME:ASCH
X-ORIGINAL-URL:https://asch.net
X-WR-CALDESC:Events for ASCH
REFRESH-INTERVAL;VALUE=DURATION:PT1H
X-Robots-Tag:noindex
X-PUBLISHED-TTL:PT1H
BEGIN:VTIMEZONE
TZID:UTC
BEGIN:STANDARD
TZOFFSETFROM:+0000
TZOFFSETTO:+0000
TZNAME:UTC
DTSTART:20240101T000000
END:STANDARD
END:VTIMEZONE
BEGIN:VEVENT
DTSTART;VALUE=DATE:20251213
DTEND;VALUE=DATE:20251214
DTSTAMP:20260424T111044
CREATED:20251104T211349Z
LAST-MODIFIED:20251104T211349Z
UID:2832-1765584000-1765670399@asch.net
SUMMARY:Hypnosis For Acute Pain (CHSNJ)
DESCRIPTION:Organization: Clinical Hypnosis Society of New Jersey (CHSNJ) \nWebsite: https://www.clinicalhypnosisnj.org/event-6380804  \nEvent Title: Hypnosis For Acute Pain  \nAgenda:  Patterson_Timed_Agenda (1) \nDates: 12/13/2025\, 11am -1:30pm ET \nLocation: virtual  \nCE: 2  \nContact :  ginnydinsmore@gmail.com Virginia Dinsmore  \nAbstract: This two-hour program will focus on using hypnosis for managing pain from two types of acute pain etiologies: acute pain crisis and procedural pain. The presenter will provide theoretical background and clinical demonstration for using hypnosis with both types of pain. Hypnosis for crisis involves very rapid\, direct inductions. For procedural pain\, patients undergo a hypnotic session well before the medical procedure (e.g.\, surgery\, dentistry\, childbirth\, burn care). The procedural hypnotical induction makes use of priming\, confusion\, amnesia\, and post-hypnotic suggestion. The presenter will describe each of these hypnotic techniques and then demonstrate them.  \nThis is a Clinical Conversation – one in a series; Appropriate for beginners – advanced. \nLearning Objectives: At the conclusion of this workshop\, participants will be able to: \n\nDescribe the difference between treating acute and chronic pain \n\n\nList and utilize one quick hypnotic induction for patients in crisis \n\n\nList and utilize one induction for procedural pain \n\n\nDescribe how principles of priming\, confusion\, and amnesia can be integrated into a hypnotic intervention for procedural pain \n\nSpeaker info: David R. Patterson\, Ph.D.\, ABPP  2025_Biography_for_Speaking_
URL:https://asch.net/event/hypnosis-for-acute-pain-chsnj/
LOCATION:Virtual
CATEGORIES:Component-Sponsored CE
END:VEVENT
END:VCALENDAR