BEGIN:VCALENDAR
VERSION:2.0
PRODID:-//ASCH - ECPv6.15.20//NONSGML v1.0//EN
CALSCALE:GREGORIAN
METHOD:PUBLISH
X-ORIGINAL-URL:https://asch.net
X-WR-CALDESC:Events for ASCH
REFRESH-INTERVAL;VALUE=DURATION:PT1H
X-Robots-Tag:noindex
X-PUBLISHED-TTL:PT1H
BEGIN:VTIMEZONE
TZID:UTC
BEGIN:STANDARD
TZOFFSETFROM:+0000
TZOFFSETTO:+0000
TZNAME:UTC
DTSTART:20240101T000000
END:STANDARD
END:VTIMEZONE
BEGIN:VEVENT
DTSTART;VALUE=DATE:20250208
DTEND;VALUE=DATE:20250210
DTSTAMP:20260420T183025
CREATED:20250121T211540Z
LAST-MODIFIED:20250121T211540Z
UID:2125-1738972800-1739145599@asch.net
SUMMARY:Into the Mystical: Creating Psychedelic-Like Experience Utilizing Hypnosis (NC Society of Clinical Hypnosis)
DESCRIPTION:Organization: NC Society of Clinical Hypnosis \nWebsite: https://www.nchypnosis.org/event-details/into-the-mystical-creating-psychedelic-like-experience-utilizing-hypnosis \nCourse Description: Click Here \nEvent Title: Into the Mystical: Creating Psychedelic-Like Experience Utilizing Hypnosis \nDates: 2/08/2025-2/09/2025 \nLocation: Virtual \nCE: 12.0 \nContact: drjohnhall@gmail.com \nAbstract:\nThe NC Society of Clinical Hypnosis is hosting its 2025 Annual Conference\, titled “Into the Mystical: Creating Psychedelic-Like Experience Utilizing Hypnosis\,” on February 8-9\, 2025. The conference features leading experts in the field\, including Dr. Cameron Alldredge\, Dr. David Patterson\, Dr. Randy Buzan\, and Dr. Ciara Christensen\, who will present on different aspects of hypnosis and applications in these areas. Day one will cover topics such as using hypnosis to occasion mystical experiences and the unconscious\, with practical breakout sessions for participants. Day two will allow participants to explore how psychedelic-assisted psychotherapy (PAP) can inform our use of hypnosis and how hypnosis can be used in the preparation and integration phases of PAP. The science behind PAP and possible overlap between psychedelic and hypnotic Non-Ordinary States of Consciousness (NOSC) experiences will also be discussed. The event will conclude with a panel discussion\, allowing attendees to engage with the presenters and exchange ideas about the future of hypnosis in these powerful and transformational therapeutic contexts. \nLearning Objectives: \nAfter Dr. Alldredge’s presentation\, participants will be able to: \n\nDescribe at least 3 characteristics that are typical of mystical experiences\nSummarize what past and recent research say about inducing mystical experiences with hypnosis only\nState a theoretical rationale for the use of mystical experiences within therapeutic interventions\nDemonstrate designing and delivering suggestions to integrate mystical elements into psychotherapy\n\nAfter Dr. Patterson’s presentation\, participants will be able to: \n\nArticulate three findings from research on the unconscious that provide a foundation for complex hypnotic inductions\nPerform three suggestions that can be combined to form a non-linear hypnotic induction\nDescribe the concept of the positive unconscious and its association with the science of psychedelic therapies.\n\nFollowing Dr. Buzan’s presentation\, participants will be able to: \n\nList at least 3 classic psychedelics and their postulated mechanisms of action and how they differ from MDMA and ketamine\nList two psychiatric illnesses that appear responsive to psychedelic-assisted psychotherapy\nName two categories of patients who might not be appropriate for psychedelic-assisted psychotherapy\n\nAfter Dr. Christensen’s presentation\, participants will be able to: \n\nState two shared features of hypnosis and ketamine/psilocybin\nState one difference between a ‘psycholytic dose’ vs a ‘heroic or psychedelic’ dose\nState one hypnosis technique they can utilize during the preparation phase of PAP to enhance openness and readiness\nState one hypnosis technique they can utilize for the integration/post-journey phase to help clients process insights and solidify personal growth
URL:https://asch.net/event/into-the-mystical-creating-psychedelic-like-experience-utilizing-hypnosis-nc-society-of-clinical-hypnosis/
END:VEVENT
END:VCALENDAR